Workbook
Name BannerMD_BMT_ALLO_RELA: [1]RatesForLookup!$H$11:$Q$18
Name BannerMD_BMT_ALLO_RELA: [2]RatesForLookup!$H$11:$Q$18
Name BannerMD_BMT_ALLO_RELA: RatesForLookup!$H$11:$Q$18
Name BannerMD_BMT_ALLO_UNREL: [1]RatesForLookup!$H$29:$Q$38
Name BannerMD_BMT_ALLO_UNREL: [2]RatesForLookup!$H$29:$Q$38
Name BannerMD_BMT_ALLO_UNREL: RatesForLookup!$H$29:$Q$38
Name BannerMD_BMT_AUT_ADULT: [1]RatesForLookup!$H$4:$Q$10
Name BannerMD_BMT_AUT_ADULT: [2]RatesForLookup!$H$4:$Q$10
Name BannerMD_BMT_AUT_ADULT: RatesForLookup!$H$4:$Q$10
Name BannerMD_BMT_HAPLOID: [1]RatesForLookup!$H$19:$Q$28
Name BannerMD_BMT_HAPLOID: [2]RatesForLookup!$H$19:$Q$28
Name BannerMD_BMT_HAPLOID: RatesForLookup!$H$19:$Q$28
Name BannerMD_TBI: [1]RatesForLookup!$H$39:$Q$39
Name BannerMD_TBI: [2]RatesForLookup!$H$39:$Q$39
Name BannerMD_TBI: RatesForLookup!$H$39:$Q$39
Name BUMCP_CAD_LIVER: [1]RatesForLookup!$H$69:$Q$74
Name BUMCP_CAD_LIVER: [2]RatesForLookup!$H$69:$Q$74
Name BUMCP_CAD_LIVER: RatesForLookup!$H$69:$Q$74
Name BUMCP_HEART: [1]RatesForLookup!$H$40:$Q$47
Name BUMCP_HEART: [2]RatesForLookup!$H$40:$Q$47
Name BUMCP_HEART: RatesForLookup!$H$40:$Q$47
Name BUMCP_KIDNEY_CADAVERIC: [1]RatesForLookup!$H$48:$Q$51
Name BUMCP_KIDNEY_CADAVERIC: [2]RatesForLookup!$H$48:$Q$51
Name BUMCP_KIDNEY_CADAVERIC: RatesForLookup!$H$48:$Q$51
Name BUMCP_KIDNEY_LIVING: [1]RatesForLookup!$H$52:$Q$56
Name BUMCP_KIDNEY_LIVING: [2]RatesForLookup!$H$52:$Q$56
Name BUMCP_KIDNEY_LIVING: RatesForLookup!$H$52:$Q$56
Name BUMCP_PANCREA_AFTER_KDY: [1]RatesForLookup!$H$57:$Q$62
Name BUMCP_PANCREA_AFTER_KDY: [2]RatesForLookup!$H$57:$Q$62
Name BUMCP_PANCREA_AFTER_KDY: RatesForLookup!$H$57:$Q$62
Name BUMCP_SIM_KIDNEY_PANCR: [1]RatesForLookup!$H$63:$Q$68
Name BUMCP_SIM_KIDNEY_PANCR: [2]RatesForLookup!$H$63:$Q$68
Name BUMCP_SIM_KIDNEY_PANCR: RatesForLookup!$H$63:$Q$68
Name BUMCP_SIMUL_CAD_LIV_KDY: [1]RatesForLookup!$H$75:$Q$80
Name BUMCP_SIMUL_CAD_LIV_KDY: [2]RatesForLookup!$H$75:$Q$80
Name BUMCP_SIMUL_CAD_LIV_KDY: RatesForLookup!$H$75:$Q$80
Name BUMCT_ALLO_RELA_PEDS: [1]RatesForLookup!$H$88:$Q$95
Name BUMCT_ALLO_RELA_PEDS: [2]RatesForLookup!$H$88:$Q$95
Name BUMCT_ALLO_RELA_PEDS: RatesForLookup!$H$88:$Q$95
Name BUMCT_ALLO_UNRE_PEDS: [1]RatesForLookup!$H$106:$Q$115
Name BUMCT_ALLO_UNRE_PEDS: [2]RatesForLookup!$H$106:$Q$115
Name BUMCT_ALLO_UNRE_PEDS: RatesForLookup!$H$106:$Q$115
Name BUMCT_AUT_PEDS: [1]RatesForLookup!$H$81:$Q$87
Name BUMCT_AUT_PEDS: [2]RatesForLookup!$H$81:$Q$87
Name BUMCT_AUT_PEDS: RatesForLookup!$H$81:$Q$87
Name BUMCT_BMT_ALLO_REL_ADULT: [1]RatesForLookup!$H$123:$Q$130
Name BUMCT_BMT_ALLO_REL_ADULT: [2]RatesForLookup!$H$123:$Q$130
Name BUMCT_BMT_ALLO_REL_ADULT: RatesForLookup!$H$123:$Q$130
Name BUMCT_BMT_ALLO_UNREL_ADULT: [1]RatesForLookup!$H$141:$Q$150
Name BUMCT_BMT_ALLO_UNREL_ADULT: [2]RatesForLookup!$H$141:$Q$150
Name BUMCT_BMT_ALLO_UNREL_ADULT: RatesForLookup!$H$141:$Q$150
Name BUMCT_BMT_AUTO_ADULT: [1]RatesForLookup!$H$116:$Q$122
Name BUMCT_BMT_AUTO_ADULT: [2]RatesForLookup!$H$116:$Q$122
Name BUMCT_BMT_AUTO_ADULT: RatesForLookup!$H$116:$Q$122
Name BUMCT_BMT_HAPLOID_ADULT: [1]RatesForLookup!$H$131:$Q$140
Name BUMCT_BMT_HAPLOID_ADULT: [2]RatesForLookup!$H$131:$Q$140
Name BUMCT_BMT_HAPLOID_ADULT: RatesForLookup!$H$131:$Q$140
Name BUMCT_CAD_LIVER: RatesForLookup!$H$173:$Q$178
Name BUMCT_DOUBLE_LUNG: [2]RatesForLookup!$H$191:$Q$196
Name BUMCT_DOUBLE_LUNG: RatesForLookup!$H$191:$Q$196

Sheet Index By Hospital
B2: Transplant Rate Effective October 1, 2026 Index
B4: By Hospital, by Type
B5: Banner Health dba Banner Gateway Medical Center
C6: Adult Allogeneic Related Bone Marrow Transplant Contract (ALO)
C7: Adult Allogeneic Unrelated Bone Marrow Transplant Contract (ALU)
C8: Adult Autologous Bone Marrow Transplant Contract (AUT)
C9: Adult Haploid Hematopoietic Stem Cell Transplant Contract (HAP)
C10: Total Body Irradiation (TBI)
B12: Banner University Medical Center Phoenix
C13: Adult Cadaveric Liver Transplant Contract (LIV)
C14: Cadaveric Donor Kidney Transplant Contract (CKY)
C15: Heart Transplant Contract (HRT)
C16: Living Donor Kidney Transplant Contract (KDY)
C17: Pancreas After Kidney Transplant Contract (PAK)
C18: Simulataneous Kidney/Pancreas Transplant Contract (SPK)
C19: Simultaneous Cadaveric Liver/Kidney Transplant Contract (SLK)
B21: Banner University Medical Center Tucson Campus,LLC
C22: Adult Allogeneic Related Bone Marrow Transplant Contract (ALO)
C23: Adult Allogeneic Unrelated Bone Marrow Transplant Contract (ALU)
C24: Adult Autologous Bone Marrow Transplant Contract (AUT)
C25: Adult Haploid Hematopoietic Stem Cell Transplant Contract (HAP)
C26: Cadaveric Donor Kidney Transplant Contract (CKY)
C27: Living Donor Kidney Transplant Contract (KDY)
C28: Pancreas After Kidney Transplant Contract (PAK)
C29: Pediatric Allogeneic Related Bone Marrow Transplant Contract (PAL)
C30: Pediatric Allogeneic Unrelated Bone Marrow Transplant Contract (PLU)
C31: Pediatric Autologous Bone Marrow Transplant Contract (PAU)
C32: Pediatric Haploid Hematopoietic Stem Cell Transplant Contract (PHA)
C33: Simultaneous Kidney-Pancreas Transplant Contract (SPK)
C34: Total Body Irradiation (TBI)
B36: Lucile Salter Packard Children's Hospital
C37: Multi-Visceral Cadaveric Donor (Intestine, Liver, Pancreas En Bloc)
C38: Pediatric Allogeneic Related Bone Marrow Transplant Contract (PAL)
C39: Pediatric Allogeneic Unrelated Bone Marrow Transplant Contract (PLU)
C40: Pediatric And Young Adult Heart And Liver Transplant Contract (PLH)
C41: Pediatric Autologous Bone Marrow Transplant Contract (PAU)
C42: Pediatric Double Lung (PDL) Transplant Contract (Includes Single Lung) (PLS)
C43: Pediatric Heart And Lung Transplant Contract (PHL)
C44: Pediatric Heart Transplant (PHT)
C45: Pediatric Intestinal Transplant Contract (PCB)
...

Sheet Index By Type
B2: Transplant Rate Effective October 1, 2026 Index
B5: By Type, By Hospital:
B6: Adult Allogeneic Related Bone Marrow Transplant Contract (ALO)
C7: Banner Health dba Banner Gateway Medical Center
C8: Banner University Medical Center Tucson Campus,LLC
C9: Mayo Clinic Hospital Scottsdale
C10: Phoenix Children's Hospital
C11: Scottsdale Healthcare Shea dba Honor Health
C12: Western Regional Medical Center, Inc. dba City Of Hope Phoenix
B14: Adult Allogeneic Unrelated Bone Marrow Transplant Contract (ALU)
C15: Banner Health dba Banner Gateway Medical Center
C16: Banner University Medical Center Tucson Campus,LLC
C17: Mayo Clinic Hospital Scottsdale
C18: Phoenix Children's Hospital
C19: Scottsdale Healthcare Shea dba Honor Health
C20: Western Regional Medical Center, Inc. dba City Of Hope Phoenix
B22: Adult Autologous Bone Marrow Transplant Contract (AUT)
C23: Banner Health dba Banner Gateway Medical Center
C24: Banner University Medical Center Tucson Campus,LLC
C25: Mayo Clinic Hospital Scottsdale
C26: Phoenix Children's Hospital
C27: Scottsdale Healthcare Shea dba Honor Health
C28: Western Regional Medical Center, Inc. dba City Of Hope Phoenix
B30: Adult Cadaveric Liver Transplant Contract (LIV)
C31: Banner University Medical Center Phoenix
C32: Mayo Clinic Hospital Scottsdale
C33: St. Joseph's Hospital And Medical Center
B35: Adult Haploid Hematopoietic Stem Cell Transplant Contract (HAP)
C36: Banner Health dba Banner Gateway Medical Center
C37: Banner University Medical Center Tucson Campus,LLC
C38: Mayo Clinic Hospital Scottsdale
C39: Phoenix Children's Hospital
C40: Scottsdale Healthcare Shea dba Honor Health
C41: Western Regional Medical Center, Inc. dba City Of Hope Phoenix
B43: Adult Heart And Lung Transplant (HLT)
C44: Stanford Hospital And Healthcare
B46: Cadaveric Donor Kidney Transplant (CKY)
C47: Banner University Medical Center Phoenix
C48: Banner University Medical Center Tucson Campus,LLC
C49: Mayo Clinic Hospital Scottsdale
...

Sheet Updates & QC 2025
B1: 10/1/25 - 9/30/26 = Contract Year (CY) 44 | F1: Password: Mercy2025
A2: How to hide and unhide tabs from Tracy's team | E2: Annual Updates | I2: Updates during the year
A4: 1 | B4: Go to Developer tab and select View Code | E4: 1 | F4: Unhide the "RatesForLookup" tab | H4: 1 | I4: Transplant team may have new contracts or revisions
B5: This opens the Visual Basic screen | I5: Tracy should give us a contract tab which we will format
E6: 2 | F6: Column O will become the 10/1/25 rates | I6: and add into the RatesForLookup tab
F7: Column P will become the 10/1/26 rates
H8: 2 | I8: New contracts effective before 10/1 will not get the Inflation Factor -
I9: adjusted rate in column G until after 10/1, and maybe not till following
I10: year depending on what was negotiated
A11: 2 | B11: In Project window - Select the tab you want | I11: Make sure the vlookup formulas on the new contract tab select for
I12: column F, not column G. Make a note in column Q about this so
F13: Copy / paste values all the rates from column P into column O | I13: that the the vlookup formulas are changed in the next updae
F14: Make sure you paste values, not formulas | I14: New contracts effective 10/1 or after will already account for the factor
I15: in the newly negotiated rates. Enter these in column G
E16: 3 | F16: Change the column names to the correct years
H17: 3 | I17: Copy the new tab into this spreadsheet. Keep original tab as backup
E18: 4 | F18: QC that the rates in column P flow correctly to each contract tab
H19: 4 | I19: Add column A and row 1 to the new tab and enter the reference values
E20: 5 | F20: Update the effective dates on each contract tab
H21: 5 | I21: Format the new tab before inserting it into the spreadsheet, as was
A22: 3 | B22: In Properties window - choose the visibility you want | E22: 6 | F22: In April ask Ruth for the Inflation Factors | I22: done with the existing tabs
B23: 2 - xlSheetVeryHidden - will hide tab from anyone who | F23: This year's file is here: | I23: You may have to rearrange a bit - eg: the days 11+/61+ term should
B24: doesn't know Excel well | F24: SP_Global_HealthCare_Cost_Tables_Q1_2025.xlsx | I24: have it's own row and reference number
B25: -1- xlSheetVisible - will unhide it | F25: Use tab "Tab61CY" | I25: Make sure the layout matches the existing contract tabs. It's okay that
F26: Use Q1 over Q1 for the calculation | I26: the new contract may have more or less terms than any existing one
H28: 6 | I28: In cell A1 on the new tab, insert the formula that shows the tab name
I29: '=MID(CELL("filename",A1),FIND("]",CELL("filename",A1))+1,255)
E30: 7 | F30: Column F will become the 10/1/25 factor
F31: Column G will become the 10/1/26 factor | H31: 7 | I31: Make sure row 1, column A and all cells containing rates are locked
H33: 8 | I33: On the RatesForLookup tab insert new rows for as many contract terms
I34: as exist on the new contract tab. Insert them in the same alphabetical
I35: that matches the tab location.
A37: 4 | B37: Remember to save, and close the entire Visual Basic screen | H37: 9 | I37: In column A, enter the formula that picks up the new tab name
E38: 8 | F38: Copy the 10/1/25 factor into column F
F39: and update the 10/1/26 factor with a dummy until the real one is published | H39: 10 | I39: In column C, type in a short hospital name
E41: 9 | F41: Change the column names to the correct years | H41: 11 | I41: In columns H and I type in the row and column reference numbers
E43: 10 | F43: QC that the rates in column P have updated correctly | H43: 12 | I43: Copy all other formulas from an existing row
E45: 11 | F45: Update the effective dates in red at top of each contract tab | H45: 13 | I45: Create a named range for the new rows, from column H to column Q
I46: It should be same as the tab name but without the year
F47: Format each tab in the QC'd spreadsheet before giving to Tracy Thomas:
...

Sheet Change Log
A3: Step
A4: 1 | B4: Start with this file: | C4: Transplant Rates effective December 1st, 2024 | M4: These tabs are hidden, because contracts may be reinstated | AB4: Macro to create a list of tab names | AG4: Then
A5: 2 | B5: Delete discontinued contract tabs: | AB5: Sub ListSheetNamesInNewWorkbook() | AG5: Press F5
B6: Banner Tucson Adult Liver Transplant Program is on hold as of 12/5/24 - pending deletion 2024_BUMCT_CAD_LIVER | AB6: Dim objNewWorkbook As Workbook | AG6: New spreadsheet opens with list
B7: Banner Tucson dual organ liver/kidney is also on hold during above - pending deletion 2024_BUMCT_SIMUL_CAD_LIV_KDY | AB7: Dim objNewWorksheet As Worksheet
B8: Banner Tucson Adult Heart and Adult Heart/Lung
B9: PCH Peds Living Liver is on hold, may be reinstated - pending deletion
A10: 3 | B10: Break all links | AB10: Set objNewWorkbook = Excel.Application.Workbooks.Add
B11: Select all sheets, unhide rows and columns | AB11: Set objNewWorksheet = objNewWorkbook.Sheets(1)
B12: Insert new row 1 at top and a new row A on the left
B13: In cell A1, enter the formula that looks up the tab name - this will automatically update if someone changes the tab name | AB13: For i = 1 To ThisWorkbook.Sheets.Count
C14: =MID(CELL("filename",A1),FIND("]",CELL("filename",A1))+1,255) | J14: or | K14: =TEXTAFTER(CELL("filename",A1),"]")
B15: This cell will be locked on all tabs and the row will be hidden | AB15: objNewWorksheet.Cells(i, 1) = i
B16: Insert new tab "RatesIn" - this pulls in the current rates | AB16: objNewWorksheet.Cells(i, 2) = ThisWorkbook.Sheets(i).Name
B17: This tab will be Very Hidden via the Developer - Visual Basic feature (very easy) | AB17: Next i
B18: On this new tab create links to all the cell A1's to make a list of tab names that will automatically update if someone changes the tab name.
B19: (I think using a formula or macro to do this would be a circular reference error) | AB19: With objNewWorksheet
B20: Double-check that all tabs have been linked by running the macro on the original Dec 1st spreadsheet and comparing the counts of tab names | AB20: .Rows(1).Insert
AB21: .Cells(1, 1) = "INDEX"
B22: You can't just reuse this linked formula to get the hospital name and contract type, because sometimes they are merged in starting in column A , sometimes in B | AB22: .Cells(1, 1).Font.Bold = True
B23: same for row 4 Effective Date and row 5 Facility ID | G23: Also some are in different rows! | L23: Fix column: | AB23: .Cells(1, 2) = "NAME"
B24: Fix this so that every tab is identical - there are a lot more in A than in B so change the Bs | L24: 2024_BannerMD_BMT_ALLO_RELA | AB24: .Cells(1, 2).Font.Bold = True
C25: Can't fix these rows: they have extra row of description | L25: 2024_BannerMD_BMT_ALLO_UNREL | AB25: .Columns("A:B").AutoFit
C26: 2024 LPCH -Living_Liver | L26: 2024_BUMCP_KIDNEY CADAVERIC | AB26: End With
C27: 2024 LPCH -CAD_Liver | L27: 2024_BUMCP_KIDNEY_LIVING | AB27: End Sub
C28: 2024_LPCH Multivis CadDonor | L28: 2024_BUMCP_PANCREA_AFTER_KDY
C29: 2024_LPCH-IntestineCadDonor | L29: 2024_BUMCP_SIM_KIDNEY-PANCR
C30: 2024_MAYO_SIMU_CADV LIV KDY | L30: 2024_BUMCT_ALLO_RELA_PEDS
C31: 2024_PCH_BMT_AUT_ADULT | L31: 2024_BUMCT_ALLO_UNRE_PEDS
C32: 2024_PCH_BMT_ADULT ALLO_REL | L32: 2024 LPCH-BMT AUT PEDS
C33: 2024_PCH_ADULT_HAPLOID | L33: 2024 LPCH-ALLO RELA PEDS
C34: 2024_PCH_ADULT_ALLO_UNREL | L34: 2024 LPCH ALLO UNREL PEDS
L35: 2025_PCH_PED_LIVING_LIVER
B36: Many tabs = someone put formulas in the effective date rows, which no longer work.
B37: I hardcoded them all to match the December spreadsheet dates
B39: Corrected the spacing in several ID# rows to match the majority. Need a way for people to enter the data in correct format
B41: Moved the three letter contract type from middle of title to the end: | H41: 2024_BUMCP_PANCREA_AFTER_KDY
H42: 2024_BUMCP_SIM_KIDNEY-PANCR
B43: Got rid of spaces in tab names to prevent problems in formulas
B45: Add days 11-61+ outlier as a separate cell on all tabs where it appears in the language and move to row below the Days 11-61 per diem
...

Sheet RatesForLookup
G1: Vlookup: | H1: 1 | I1: 2 | J1: 3 | K1: 4 | L1: 5 | M1: 6 | N1: 7 | O1: 8 | P1: 9 | Q1: Catchup factor for Days 11+/61+ threshold
A2: FORMULA | B2: =SUMIF(B4:B661,1,B4:B661) -> 2 | C2: make up a short name, not a formula | D2: FORMULA | E2: FORMULA | F2: 1.0335 | G2: 1.0325 | J2: not used | K2: not used | L2: not used | M2: not used | N2: FORMULA | O2: HARDCODED | P2: FORMULA FOR LOOKUP | Q2: 1.1034
A3: Tab Name | B3: Unique Contract | C3: Hospital Name | D3: Hospital ID | E3: Contract Type | F3: 10/1/25 Factor | G3: 10/1/26 Factor | H3: Row Reference | I3: Column Reference | J3: ColumnFlag2 | K3: Row | L3: Column1 | M3: Column2 | N3: Component Name | O3: 10/1/25 Rate | P3: 10/1/26 Rate | Q3: Note | R3: QC Checkmark | S3: .
A4: ='2026_BannerMD_BMT_AUT_ADULT'!$A$1 -> #VALUE! | B4: =IF(A4=A3,0,1) -> #VALUE! | C4: Banner Gateway | D4: {=RIGHT(INDIRECT(ADDRESS(6,2,,,$A4)),6)} -> #VALUE! | E4: {=RIGHT(INDIRECT(ADDRESS(4,2,,,$A4)),5)} -> #VALUE! | F4: 1.0335 | G4: =$G$2 -> 1.0325 | H4: 1 | I4: 3 | J4: 4 | K4: 10 | L4: C | M4: D | N4: =LEFT(INDEX('2026_BannerMD_BMT_AUT_ADULT'!$A$1:$E$30,MATCH(H4,'2026_BannerMD_BMT_AUT_ADULT'!$A$1:$A$30),MATCH(I4,'2026_BannerMD_BMT_AUT_ADULT'!$A$1:$D$1)),30) -> OUTPATIENT EVALUATION* - Initi | O4: 6304 | P4: =ROUND(O4*$G$2,0) -> 6509
A5: ='2026_BannerMD_BMT_AUT_ADULT'!$A$1 -> #VALUE! | B5: =IF(A5=A4,0,1) -> #VALUE! | C5: Banner Gateway | D5: {=RIGHT(INDIRECT(ADDRESS(6,2,,,$A5)),6)} -> #VALUE! | E5: {=RIGHT(INDIRECT(ADDRESS(4,2,,,$A5)),5)} -> #VALUE! | F5: 1.0335 | G5: =$G$2 -> 1.0325 | H5: 2 | I5: 3 | J5: 4 | K5: 11 | L5: C | M5: D | N5: =LEFT(INDEX('2026_BannerMD_BMT_AUT_ADULT'!$A$1:$E$18,MATCH(H5,'2026_BannerMD_BMT_AUT_ADULT'!$A$1:$A$30),MATCH(I5,'2026_BannerMD_BMT_AUT_ADULT'!$A$1:$D$1)),30) -> AUTOLOGOUS HARVEST | O5: 15603 | P5: =ROUND(O5*$G$2,0) -> 16110
A6: ='2026_BannerMD_BMT_AUT_ADULT'!$A$1 -> #VALUE! | B6: =IF(A6=A5,0,1) -> #VALUE! | C6: Banner Gateway | D6: {=RIGHT(INDIRECT(ADDRESS(6,2,,,$A6)),6)} -> #VALUE! | E6: {=RIGHT(INDIRECT(ADDRESS(4,2,,,$A6)),5)} -> #VALUE! | F6: 1.0335 | G6: =$G$2 -> 1.0325 | H6: 3 | I6: 3 | J6: 4 | K6: 12 | L6: C | M6: D | N6: =LEFT(INDEX('2026_BannerMD_BMT_AUT_ADULT'!$A$1:$E$18,MATCH(H6,'2026_BannerMD_BMT_AUT_ADULT'!$A$1:$A$30),MATCH(I6,'2026_BannerMD_BMT_AUT_ADULT'!$A$1:$D$1)),30) -> PREP AND TRANSPLANT | O6: 117013 | P6: =ROUND(O6*$G$2,0) -> 120816
A7: ='2026_BannerMD_BMT_AUT_ADULT'!$A$1 -> #VALUE! | B7: =IF(A7=A6,0,1) -> #VALUE! | C7: Banner Gateway | D7: {=RIGHT(INDIRECT(ADDRESS(6,2,,,$A7)),6)} -> #VALUE! | E7: {=RIGHT(INDIRECT(ADDRESS(4,2,,,$A7)),5)} -> #VALUE! | F7: 1.0335 | G7: =$G$2 -> 1.0325 | H7: 4 | I7: 3 | J7: 4 | L7: C | M7: D | N7: =LEFT(INDEX('2026_BannerMD_BMT_AUT_ADULT'!$A$1:$E$18,MATCH(H7,'2026_BannerMD_BMT_AUT_ADULT'!$A$1:$A$30),MATCH(I7,'2026_BannerMD_BMT_AUT_ADULT'!$A$1:$D$1)),30) -> FOLLOW UP CARE - From day 1 po | O7: 29644 | P7: =ROUND(O7*$G$2,0) -> 30607
A8: ='2026_BannerMD_BMT_AUT_ADULT'!$A$1 -> #VALUE! | B8: =IF(A8=A7,0,1) -> #VALUE! | C8: Banner Gateway | D8: {=RIGHT(INDIRECT(ADDRESS(6,2,,,$A8)),6)} -> #VALUE! | E8: {=RIGHT(INDIRECT(ADDRESS(4,2,,,$A8)),5)} -> #VALUE! | F8: 1.0335 | G8: =$G$2 -> 1.0325 | H8: 5 | I8: 3 | J8: 4 | L8: C | M8: D | N8: =LEFT(INDEX('2026_BannerMD_BMT_AUT_ADULT'!$A$1:$E$18,MATCH(H8,'2026_BannerMD_BMT_AUT_ADULT'!$A$1:$A$30),MATCH(I8,'2026_BannerMD_BMT_AUT_ADULT'!$A$1:$D$1)),30) -> FOLLOW UP CARE - From day 31 | O8: 10922 | P8: =ROUND(O8*$G$2,0) -> 11277
A9: ='2026_BannerMD_BMT_AUT_ADULT'!$A$1 -> #VALUE! | B9: =IF(A9=A8,0,1) -> #VALUE! | C9: Banner Gateway | D9: {=RIGHT(INDIRECT(ADDRESS(6,2,,,$A9)),6)} -> #VALUE! | E9: {=RIGHT(INDIRECT(ADDRESS(4,2,,,$A9)),5)} -> #VALUE! | F9: 1.0335 | G9: =$G$2 -> 1.0325 | H9: 6 | I9: 3 | J9: 4 | L9: C | M9: D | N9: =LEFT(INDEX('2026_BannerMD_BMT_AUT_ADULT'!$A$1:$E$18,MATCH(H9,'2026_BannerMD_BMT_AUT_ADULT'!$A$1:$A$30),MATCH(I9,'2026_BannerMD_BMT_AUT_ADULT'!$A$1:$D$1)),30) -> PER DIEM RATES for day 61+ of | O9: 2474 | P9: =ROUND(O9*$G$2,0) -> 2554
A10: ='2026_BannerMD_BMT_AUT_ADULT'!$A$1 -> #VALUE! | B10: =IF(A10=A9,0,1) -> #VALUE! | C10: Banner Gateway | D10: {=RIGHT(INDIRECT(ADDRESS(6,2,,,$A10)),6)} -> #VALUE! | E10: {=RIGHT(INDIRECT(ADDRESS(4,2,,,$A10)),5)} -> #VALUE! | F10: 1.0335 | G10: =$G$2 -> 1.0325 | H10: 7 | I10: 3 | J10: 4 | L10: C | M10: D | N10: =LEFT(INDEX('2026_BannerMD_BMT_AUT_ADULT'!$A$1:$E$18,MATCH(H10,'2026_BannerMD_BMT_AUT_ADULT'!$A$1:$A$30),MATCH(I10,'2026_BannerMD_BMT_AUT_ADULT'!$A$1:$D$1)),30) -> Days 11+/61+ paid at the per d | O10: 7263.18 | P10: =O10*$Q$2 -> 8014.1928 | Q10: retroactive adjustment
A11: ='2026_BannerMD_BMT_ALLO_RELA'!$A$1 -> #VALUE! | B11: =IF(A11=A10,0,1) -> #VALUE! | C11: Banner Gateway | D11: {=RIGHT(INDIRECT(ADDRESS(6,2,,,$A11)),6)} -> #VALUE! | E11: {=RIGHT(INDIRECT(ADDRESS(4,2,,,$A11)),5)} -> #VALUE! | F11: 1.0335 | G11: =$G$2 -> 1.0325 | H11: 1 | I11: 3 | J11: 4 | L11: C | M11: D | N11: =LEFT(INDEX('2026_BannerMD_BMT_ALLO_RELA'!$A$1:$E$30,MATCH(H11,'2026_BannerMD_BMT_ALLO_RELA'!$A$1:$A$30),MATCH(I11,'2026_BannerMD_BMT_ALLO_RELA'!$A$1:$D$1)),30) -> OUTPATIENT EVALUATION* - Initi | O11: 4486 | P11: =ROUND(O11*$G$2,0) -> 4632
A12: ='2026_BannerMD_BMT_ALLO_RELA'!$A$1 -> #VALUE! | B12: =IF(A12=A11,0,1) -> #VALUE! | C12: Banner Gateway | D12: {=RIGHT(INDIRECT(ADDRESS(6,2,,,$A12)),6)} -> #VALUE! | E12: {=RIGHT(INDIRECT(ADDRESS(4,2,,,$A12)),5)} -> #VALUE! | F12: 1.0335 | G12: =$G$2 -> 1.0325 | H12: 2 | I12: 3 | J12: 4 | L12: C | M12: D | N12: =LEFT(INDEX('2026_BannerMD_BMT_ALLO_RELA'!$A$1:$E$30,MATCH(H12,'2026_BannerMD_BMT_ALLO_RELA'!$A$1:$A$30),MATCH(I12,'2026_BannerMD_BMT_ALLO_RELA'!$A$1:$D$1)),30) -> RELATED DONOR SEARCH*(only 1 d | O12: 6931 | P12: =ROUND(O12*$G$2,0) -> 7156
A13: ='2026_BannerMD_BMT_ALLO_RELA'!$A$1 -> #VALUE! | B13: =IF(A13=A12,0,1) -> #VALUE! | C13: Banner Gateway | D13: {=RIGHT(INDIRECT(ADDRESS(6,2,,,$A13)),6)} -> #VALUE! | E13: {=RIGHT(INDIRECT(ADDRESS(4,2,,,$A13)),5)} -> #VALUE! | F13: 1.0335 | G13: =$G$2 -> 1.0325 | H13: 3 | I13: 3 | J13: 4 | L13: C | M13: D | N13: =LEFT(INDEX('2026_BannerMD_BMT_ALLO_RELA'!$A$1:$E$30,MATCH(H13,'2026_BannerMD_BMT_ALLO_RELA'!$A$1:$A$30),MATCH(I13,'2026_BannerMD_BMT_ALLO_RELA'!$A$1:$D$1)),30) -> RELATED DONOR HARVEST | O13: 11475 | P13: =ROUND(O13*$G$2,0) -> 11848
A14: ='2026_BannerMD_BMT_ALLO_RELA'!$A$1 -> #VALUE! | B14: =IF(A14=A13,0,1) -> #VALUE! | C14: Banner Gateway | D14: {=RIGHT(INDIRECT(ADDRESS(6,2,,,$A14)),6)} -> #VALUE! | E14: {=RIGHT(INDIRECT(ADDRESS(4,2,,,$A14)),5)} -> #VALUE! | F14: 1.0335 | G14: =$G$2 -> 1.0325 | H14: 4 | I14: 3 | J14: 4 | L14: C | M14: D | N14: =LEFT(INDEX('2026_BannerMD_BMT_ALLO_RELA'!$A$1:$E$30,MATCH(H14,'2026_BannerMD_BMT_ALLO_RELA'!$A$1:$A$30),MATCH(I14,'2026_BannerMD_BMT_ALLO_RELA'!$A$1:$D$1)),30) -> PREP AND TRANSPLANT | O14: 107724 | P14: =ROUND(O14*$G$2,0) -> 111225
A15: ='2026_BannerMD_BMT_ALLO_RELA'!$A$1 -> #VALUE! | B15: =IF(A15=A14,0,1) -> #VALUE! | C15: Banner Gateway | D15: {=RIGHT(INDIRECT(ADDRESS(6,2,,,$A15)),6)} -> #VALUE! | E15: {=RIGHT(INDIRECT(ADDRESS(4,2,,,$A15)),5)} -> #VALUE! | F15: 1.0335 | G15: =$G$2 -> 1.0325 | H15: 5 | I15: 3 | J15: 4 | L15: C | M15: D | N15: =LEFT(INDEX('2026_BannerMD_BMT_ALLO_RELA'!$A$1:$E$30,MATCH(H15,'2026_BannerMD_BMT_ALLO_RELA'!$A$1:$A$30),MATCH(I15,'2026_BannerMD_BMT_ALLO_RELA'!$A$1:$D$1)),30) -> FOLLOW UP CARE - From day 1 po | O15: 47378 | P15: =ROUND(O15*$G$2,0) -> 48918
A16: ='2026_BannerMD_BMT_ALLO_RELA'!$A$1 -> #VALUE! | B16: =IF(A16=A15,0,1) -> #VALUE! | C16: Banner Gateway | D16: {=RIGHT(INDIRECT(ADDRESS(6,2,,,$A16)),6)} -> #VALUE! | E16: {=RIGHT(INDIRECT(ADDRESS(4,2,,,$A16)),5)} -> #VALUE! | F16: 1.0335 | G16: =$G$2 -> 1.0325 | H16: 6 | I16: 3 | J16: 4 | L16: C | M16: D | N16: =LEFT(INDEX('2026_BannerMD_BMT_ALLO_RELA'!$A$1:$E$30,MATCH(H16,'2026_BannerMD_BMT_ALLO_RELA'!$A$1:$A$30),MATCH(I16,'2026_BannerMD_BMT_ALLO_RELA'!$A$1:$D$1)),30) -> FOLLOW UP CARE - From day 31 | O16: 14030 | P16: =ROUND(O16*$G$2,0) -> 14486
A17: ='2026_BannerMD_BMT_ALLO_RELA'!$A$1 -> #VALUE! | B17: =IF(A17=A16,0,1) -> #VALUE! | C17: Banner Gateway | D17: {=RIGHT(INDIRECT(ADDRESS(6,2,,,$A17)),6)} -> #VALUE! | E17: {=RIGHT(INDIRECT(ADDRESS(4,2,,,$A17)),5)} -> #VALUE! | F17: 1.0335 | G17: =$G$2 -> 1.0325 | H17: 7 | I17: 3 | J17: 4 | L17: C | M17: D | N17: =LEFT(INDEX('2026_BannerMD_BMT_ALLO_RELA'!$A$1:$E$30,MATCH(H17,'2026_BannerMD_BMT_ALLO_RELA'!$A$1:$A$30),MATCH(I17,'2026_BannerMD_BMT_ALLO_RELA'!$A$1:$D$1)),30) -> PER DIEM RATES for day 61+ of | O17: 2474 | P17: =ROUND(O17*$G$2,0) -> 2554
A18: ='2026_BannerMD_BMT_ALLO_RELA'!$A$1 -> #VALUE! | B18: =IF(A18=A17,0,1) -> #VALUE! | C18: Banner Gateway | D18: {=RIGHT(INDIRECT(ADDRESS(6,2,,,$A18)),6)} -> #VALUE! | E18: {=RIGHT(INDIRECT(ADDRESS(4,2,,,$A18)),5)} -> #VALUE! | F18: 1.0335 | G18: =$G$2 -> 1.0325 | H18: 8 | I18: 3 | J18: 4 | L18: C | M18: D | N18: =LEFT(INDEX('2026_BannerMD_BMT_ALLO_RELA'!$A$1:$E$30,MATCH(H18,'2026_BannerMD_BMT_ALLO_RELA'!$A$1:$A$30),MATCH(I18,'2026_BannerMD_BMT_ALLO_RELA'!$A$1:$D$1)),30) -> Days 11+/61+ paid at the per d | O18: 7263.18 | P18: =O18*$Q$2 -> 8014.1928 | Q18: retroactive adjustment
A19: ='2026_BannerMD_BMT_HAPLOID'!$A$1 -> #VALUE! | B19: =IF(A19=A18,0,1) -> #VALUE! | C19: Banner Gateway | D19: {=RIGHT(INDIRECT(ADDRESS(6,2,,,$A19)),6)} -> #VALUE! | E19: {=RIGHT(INDIRECT(ADDRESS(4,2,,,$A19)),5)} -> #VALUE! | F19: 1.0335 | G19: =$G$2 -> 1.0325 | H19: 1 | I19: 3 | J19: 4 | L19: C | M19: D | N19: =LEFT(INDEX('2026_BannerMD_BMT_HAPLOID'!$A$1:$E$30,MATCH(H19,'2026_BannerMD_BMT_HAPLOID'!$A$1:$A$30),MATCH(I19,'2026_BannerMD_BMT_HAPLOID'!$A$1:$D$1)),30) -> OUTPATIENT EVALUATION* - Initi | O19: 6636 | P19: =ROUND(O19*$G$2,0) -> 6852
A20: ='2026_BannerMD_BMT_HAPLOID'!$A$1 -> #VALUE! | B20: =IF(A20=A19,0,1) -> #VALUE! | C20: Banner Gateway | D20: {=RIGHT(INDIRECT(ADDRESS(6,2,,,$A20)),6)} -> #VALUE! | E20: {=RIGHT(INDIRECT(ADDRESS(4,2,,,$A20)),5)} -> #VALUE! | F20: 1.0335 | G20: =$G$2 -> 1.0325 | H20: 2 | I20: 3 | J20: 4 | L20: C | M20: D | N20: =LEFT(INDEX('2026_BannerMD_BMT_HAPLOID'!$A$1:$E$30,MATCH(H20,'2026_BannerMD_BMT_HAPLOID'!$A$1:$A$30),MATCH(I20,'2026_BannerMD_BMT_HAPLOID'!$A$1:$D$1)),30) -> DONOR SEARCH* (only 1 donor se | O20: 11713 | P20: =ROUND(O20*$G$2,0) -> 12094
A21: ='2026_BannerMD_BMT_HAPLOID'!$A$1 -> #VALUE! | B21: =IF(A21=A20,0,1) -> #VALUE! | C21: Banner Gateway | D21: {=RIGHT(INDIRECT(ADDRESS(6,2,,,$A21)),6)} -> #VALUE! | E21: {=RIGHT(INDIRECT(ADDRESS(4,2,,,$A21)),5)} -> #VALUE! | F21: 1.0335 | G21: =$G$2 -> 1.0325 | H21: 3 | I21: 3 | J21: 4 | L21: C | M21: D | N21: =LEFT(INDEX('2026_BannerMD_BMT_HAPLOID'!$A$1:$E$30,MATCH(H21,'2026_BannerMD_BMT_HAPLOID'!$A$1:$A$30),MATCH(I21,'2026_BannerMD_BMT_HAPLOID'!$A$1:$D$1)),30) -> DONOR HARVEST (includes stem c | O21: 17639 | P21: =ROUND(O21*$G$2,0) -> 18212
A22: ='2026_BannerMD_BMT_HAPLOID'!$A$1 -> #VALUE! | B22: =IF(A22=A21,0,1) -> #VALUE! | C22: Banner Gateway | D22: {=RIGHT(INDIRECT(ADDRESS(6,2,,,$A22)),6)} -> #VALUE! | E22: {=RIGHT(INDIRECT(ADDRESS(4,2,,,$A22)),5)} -> #VALUE! | F22: 1.0335 | G22: =$G$2 -> 1.0325 | H22: 4 | I22: 3 | J22: 4 | L22: C | M22: D | N22: =LEFT(INDEX('2026_BannerMD_BMT_HAPLOID'!$A$1:$E$30,MATCH(H22,'2026_BannerMD_BMT_HAPLOID'!$A$1:$A$30),MATCH(I22,'2026_BannerMD_BMT_HAPLOID'!$A$1:$D$1)),30) -> PREP AND TRANSPLANT | O22: 63808 | P22: =ROUND(O22*$G$2,0) -> 65882
A23: ='2026_BannerMD_BMT_HAPLOID'!$A$1 -> #VALUE! | B23: =IF(A23=A22,0,1) -> #VALUE! | C23: Banner Gateway | D23: {=RIGHT(INDIRECT(ADDRESS(6,2,,,$A23)),6)} -> #VALUE! | E23: {=RIGHT(INDIRECT(ADDRESS(4,2,,,$A23)),5)} -> #VALUE! | F23: 1.0335 | G23: =$G$2 -> 1.0325 | H23: 5 | I23: 3 | J23: 4 | L23: C | M23: D | N23: =LEFT(INDEX('2026_BannerMD_BMT_HAPLOID'!$A$1:$E$30,MATCH(H23,'2026_BannerMD_BMT_HAPLOID'!$A$1:$A$30),MATCH(I23,'2026_BannerMD_BMT_HAPLOID'!$A$1:$D$1)),30) -> FOLLOW UP CARE - From day 1 po | O23: 100789 | P23: =ROUND(O23*$G$2,0) -> 104065
A24: ='2026_BannerMD_BMT_HAPLOID'!$A$1 -> #VALUE! | B24: =IF(A24=A23,0,1) -> #VALUE! | C24: Banner Gateway | D24: {=RIGHT(INDIRECT(ADDRESS(6,2,,,$A24)),6)} -> #VALUE! | E24: {=RIGHT(INDIRECT(ADDRESS(4,2,,,$A24)),5)} -> #VALUE! | F24: 1.0335 | G24: =$G$2 -> 1.0325 | H24: 6 | I24: 3 | J24: 4 | L24: C | M24: D | N24: =LEFT(INDEX('2026_BannerMD_BMT_HAPLOID'!$A$1:$E$30,MATCH(H24,'2026_BannerMD_BMT_HAPLOID'!$A$1:$A$30),MATCH(I24,'2026_BannerMD_BMT_HAPLOID'!$A$1:$D$1)),30) -> FOLLOW UP CARE - From day 31 | O24: 33330 | P24: =ROUND(O24*$G$2,0) -> 34413
A25: ='2026_BannerMD_BMT_HAPLOID'!$A$1 -> #VALUE! | B25: =IF(A25=A24,0,1) -> #VALUE! | C25: Banner Gateway | D25: {=RIGHT(INDIRECT(ADDRESS(6,2,,,$A25)),6)} -> #VALUE! | E25: {=RIGHT(INDIRECT(ADDRESS(4,2,,,$A25)),5)} -> #VALUE! | F25: 1.0335 | G25: =$G$2 -> 1.0325 | H25: 7 | I25: 3 | J25: 4 | L25: C | M25: D | N25: =LEFT(INDEX('2026_BannerMD_BMT_HAPLOID'!$A$1:$E$30,MATCH(H25,'2026_BannerMD_BMT_HAPLOID'!$A$1:$A$30),MATCH(I25,'2026_BannerMD_BMT_HAPLOID'!$A$1:$D$1)),30) -> PER DIEM RATES for day 61+ of | O25: 2474 | P25: =ROUND(O25*$G$2,0) -> 2554
A26: ='2026_BannerMD_BMT_HAPLOID'!$A$1 -> #VALUE! | B26: =IF(A26=A25,0,1) -> #VALUE! | C26: Banner Gateway | D26: {=RIGHT(INDIRECT(ADDRESS(6,2,,,$A26)),6)} -> #VALUE! | E26: {=RIGHT(INDIRECT(ADDRESS(4,2,,,$A26)),5)} -> #VALUE! | F26: 1.0335 | G26: =$G$2 -> 1.0325 | H26: 8 | I26: 3 | J26: 4 | L26: C | M26: D | N26: =LEFT(INDEX('2026_BannerMD_BMT_HAPLOID'!$A$1:$E$30,MATCH(H26,'2026_BannerMD_BMT_HAPLOID'!$A$1:$A$30),MATCH(I26,'2026_BannerMD_BMT_HAPLOID'!$A$1:$D$1)),30) -> Days 11+/61+ paid at the per d | O26: 7263.18 | P26: =O26*$Q$2 -> 8014.1928 | Q26: retroactive adjustment
A27: ='2026_BannerMD_BMT_HAPLOID'!$A$1 -> #VALUE! | B27: =IF(A27=A26,0,1) -> #VALUE! | C27: Banner Gateway | D27: {=RIGHT(INDIRECT(ADDRESS(6,2,,,$A27)),6)} -> #VALUE! | E27: {=RIGHT(INDIRECT(ADDRESS(4,2,,,$A27)),5)} -> #VALUE! | F27: 1.0335 | G27: =$G$2 -> 1.0325 | H27: 9 | I27: 3 | J27: 4 | L27: C | M27: D | N27: =LEFT(INDEX('2026_BannerMD_BMT_HAPLOID'!$A$1:$E$30,MATCH(H27,'2026_BannerMD_BMT_HAPLOID'!$A$1:$A$30),MATCH(I27,'2026_BannerMD_BMT_HAPLOID'!$A$1:$D$1)),30) -> Outliers: Haploid Related case | O27: 308832.54 | P27: =O27*$G$2 -> 318869.59 | Q27: outlier threshold
A28: ='2026_BannerMD_BMT_HAPLOID'!$A$1 -> #VALUE! | B28: =IF(A28=A27,0,1) -> #VALUE! | C28: Banner Gateway | D28: {=RIGHT(INDIRECT(ADDRESS(6,2,,,$A28)),6)} -> #VALUE! | E28: {=RIGHT(INDIRECT(ADDRESS(4,2,,,$A28)),5)} -> #VALUE! | F28: 1.0335 | G28: =$G$2 -> 1.0325 | H28: 10 | I28: 3 | J28: 4 | L28: C | M28: D | N28: =LEFT(INDEX('2026_BannerMD_BMT_HAPLOID'!$A$1:$E$30,MATCH(H28,'2026_BannerMD_BMT_HAPLOID'!$A$1:$A$30),MATCH(I28,'2026_BannerMD_BMT_HAPLOID'!$A$1:$D$1)),30) -> Rate Above Threshold | O28: 0.5 | P28: =O28 -> 0.5 | Q28: no adjustment
A29: ='2026_BannerMD_BMT_ALLO_UNREL'!$A$1 -> #VALUE! | B29: =IF(A29=A28,0,1) -> #VALUE! | C29: Banner Gateway | D29: {=RIGHT(INDIRECT(ADDRESS(6,2,,,$A29)),6)} -> #VALUE! | E29: {=RIGHT(INDIRECT(ADDRESS(4,2,,,$A29)),5)} -> #VALUE! | F29: 1.0335 | G29: =$G$2 -> 1.0325 | H29: 1 | I29: 3 | J29: 4 | L29: C | M29: D | N29: =LEFT(INDEX('2026_BannerMD_BMT_ALLO_UNREL'!$A$1:$E$30,MATCH(H29,'2026_BannerMD_BMT_ALLO_UNREL'!$A$1:$A$30),MATCH(I29,'2026_BannerMD_BMT_ALLO_UNREL'!$A$1:$D$1)),30) -> OUTPATIENT EVALUATION* - Initi | O29: 4617 | P29: =ROUND(O29*$G$2,0) -> 4767
A30: ='2026_BannerMD_BMT_ALLO_UNREL'!$A$1 -> #VALUE! | B30: =IF(A30=A29,0,1) -> #VALUE! | C30: Banner Gateway | D30: {=RIGHT(INDIRECT(ADDRESS(6,2,,,$A30)),6)} -> #VALUE! | E30: {=RIGHT(INDIRECT(ADDRESS(4,2,,,$A30)),5)} -> #VALUE! | F30: 1.0335 | G30: =$G$2 -> 1.0325 | H30: 2 | I30: 3 | J30: 4 | L30: C | M30: D | N30: =LEFT(INDEX('2026_BannerMD_BMT_ALLO_UNREL'!$A$1:$E$30,MATCH(H30,'2026_BannerMD_BMT_ALLO_UNREL'!$A$1:$A$30),MATCH(I30,'2026_BannerMD_BMT_ALLO_UNREL'!$A$1:$D$1)),30) -> UNRELATED DONOR SEARCH | O30: 7133 | P30: =ROUND(O30*$G$2,0) -> 7365
A31: ='2026_BannerMD_BMT_ALLO_UNREL'!$A$1 -> #VALUE! | B31: =IF(A31=A30,0,1) -> #VALUE! | C31: Banner Gateway | D31: {=RIGHT(INDIRECT(ADDRESS(6,2,,,$A31)),6)} -> #VALUE! | E31: {=RIGHT(INDIRECT(ADDRESS(4,2,,,$A31)),5)} -> #VALUE! | F31: 1.0335 | G31: =$G$2 -> 1.0325 | H31: 3 | I31: 3 | J31: 4 | L31: C | M31: D | N31: =LEFT(INDEX('2026_BannerMD_BMT_ALLO_UNREL'!$A$1:$E$30,MATCH(H31,'2026_BannerMD_BMT_ALLO_UNREL'!$A$1:$A$30),MATCH(I31,'2026_BannerMD_BMT_ALLO_UNREL'!$A$1:$D$1)),30) -> DONOR HARVEST (includes stem c | O31: NBMD or Cord blood Invoice Cost | P31: =O31 -> NBMD or Cord blood Invoice Cost | Q31: no adjustment
A32: ='2026_BannerMD_BMT_ALLO_UNREL'!$A$1 -> #VALUE! | B32: =IF(A32=A31,0,1) -> #VALUE! | C32: Banner Gateway | D32: {=RIGHT(INDIRECT(ADDRESS(6,2,,,$A32)),6)} -> #VALUE! | E32: {=RIGHT(INDIRECT(ADDRESS(4,2,,,$A32)),5)} -> #VALUE! | F32: 1.0335 | G32: =$G$2 -> 1.0325 | H32: 4 | I32: 3 | J32: 4 | L32: C | M32: D | N32: =LEFT(INDEX('2026_BannerMD_BMT_ALLO_UNREL'!$A$1:$E$30,MATCH(H32,'2026_BannerMD_BMT_ALLO_UNREL'!$A$1:$A$30),MATCH(I32,'2026_BannerMD_BMT_ALLO_UNREL'!$A$1:$D$1)),30) -> PREP AND TRANSPLANT | O32: 110859 | P32: =ROUND(O32*$G$2,0) -> 114462
A33: ='2026_BannerMD_BMT_ALLO_UNREL'!$A$1 -> #VALUE! | B33: =IF(A33=A32,0,1) -> #VALUE! | C33: Banner Gateway | D33: {=RIGHT(INDIRECT(ADDRESS(6,2,,,$A33)),6)} -> #VALUE! | E33: {=RIGHT(INDIRECT(ADDRESS(4,2,,,$A33)),5)} -> #VALUE! | F33: 1.0335 | G33: =$G$2 -> 1.0325 | H33: 5 | I33: 3 | J33: 4 | L33: C | M33: D | N33: =LEFT(INDEX('2026_BannerMD_BMT_ALLO_UNREL'!$A$1:$E$30,MATCH(H33,'2026_BannerMD_BMT_ALLO_UNREL'!$A$1:$A$30),MATCH(I33,'2026_BannerMD_BMT_ALLO_UNREL'!$A$1:$D$1)),30) -> FOLLOW UP CARE - From day 1 po | O33: 61294 | P33: =ROUND(O33*$G$2,0) -> 63286
A34: ='2026_BannerMD_BMT_ALLO_UNREL'!$A$1 -> #VALUE! | B34: =IF(A34=A33,0,1) -> #VALUE! | C34: Banner Gateway | D34: {=RIGHT(INDIRECT(ADDRESS(6,2,,,$A34)),6)} -> #VALUE! | E34: {=RIGHT(INDIRECT(ADDRESS(4,2,,,$A34)),5)} -> #VALUE! | F34: 1.0335 | G34: =$G$2 -> 1.0325 | H34: 6 | I34: 3 | J34: 4 | L34: C | M34: D | N34: =LEFT(INDEX('2026_BannerMD_BMT_ALLO_UNREL'!$A$1:$E$30,MATCH(H34,'2026_BannerMD_BMT_ALLO_UNREL'!$A$1:$A$30),MATCH(I34,'2026_BannerMD_BMT_ALLO_UNREL'!$A$1:$D$1)),30) -> FOLLOW UP CARE - From day 31 | O34: 36823 | P34: =ROUND(O34*$G$2,0) -> 38020
A35: ='2026_BannerMD_BMT_ALLO_UNREL'!$A$1 -> #VALUE! | B35: =IF(A35=A34,0,1) -> #VALUE! | C35: Banner Gateway | D35: {=RIGHT(INDIRECT(ADDRESS(6,2,,,$A35)),6)} -> #VALUE! | E35: {=RIGHT(INDIRECT(ADDRESS(4,2,,,$A35)),5)} -> #VALUE! | F35: 1.0335 | G35: =$G$2 -> 1.0325 | H35: 7 | I35: 3 | J35: 4 | L35: C | M35: D | N35: =LEFT(INDEX('2026_BannerMD_BMT_ALLO_UNREL'!$A$1:$E$30,MATCH(H35,'2026_BannerMD_BMT_ALLO_UNREL'!$A$1:$A$30),MATCH(I35,'2026_BannerMD_BMT_ALLO_UNREL'!$A$1:$D$1)),30) -> PER DIEM RATES for day 61+ of | O35: 2474 | P35: =ROUND(O35*$G$2,0) -> 2554
A36: ='2026_BannerMD_BMT_ALLO_UNREL'!$A$1 -> #VALUE! | B36: =IF(A36=A35,0,1) -> #VALUE! | C36: Banner Gateway | D36: {=RIGHT(INDIRECT(ADDRESS(6,2,,,$A36)),6)} -> #VALUE! | E36: {=RIGHT(INDIRECT(ADDRESS(4,2,,,$A36)),5)} -> #VALUE! | F36: 1.0335 | G36: =$G$2 -> 1.0325 | H36: 8 | I36: 3 | J36: 4 | L36: C | M36: D | N36: =LEFT(INDEX('2026_BannerMD_BMT_ALLO_UNREL'!$A$1:$E$30,MATCH(H36,'2026_BannerMD_BMT_ALLO_UNREL'!$A$1:$A$30),MATCH(I36,'2026_BannerMD_BMT_ALLO_UNREL'!$A$1:$D$1)),30) -> Days 11+/61+ paid at the per d | O36: 7263.18 | P36: =O36*$Q$2 -> 8014.1928 | Q36: retroactive adjustment
A37: ='2026_BannerMD_BMT_ALLO_UNREL'!$A$1 -> #VALUE! | B37: =IF(A37=A36,0,1) -> #VALUE! | C37: Banner Gateway | D37: {=RIGHT(INDIRECT(ADDRESS(6,2,,,$A37)),6)} -> #VALUE! | E37: {=RIGHT(INDIRECT(ADDRESS(4,2,,,$A37)),5)} -> #VALUE! | F37: 1.0335 | G37: =$G$2 -> 1.0325 | H37: 9 | I37: 3 | J37: 4 | L37: C | M37: D | N37: =LEFT(INDEX('2026_BannerMD_BMT_ALLO_UNREL'!$A$1:$E$30,MATCH(H37,'2026_BannerMD_BMT_ALLO_UNREL'!$A$1:$A$30),MATCH(I37,'2026_BannerMD_BMT_ALLO_UNREL'!$A$1:$D$1)),30) -> Outliers: Matched unrelated al | O37: 273197 | P37: =ROUND(O37*$G$2,0) -> 282076 | Q37: outlier threshold
A38: ='2026_BannerMD_BMT_ALLO_UNREL'!$A$1 -> #VALUE! | B38: =IF(A38=A37,0,1) -> #VALUE! | C38: Banner Gateway | D38: {=RIGHT(INDIRECT(ADDRESS(6,2,,,$A38)),6)} -> #VALUE! | E38: {=RIGHT(INDIRECT(ADDRESS(4,2,,,$A38)),5)} -> #VALUE! | F38: 1.0335 | G38: =$G$2 -> 1.0325 | H38: 10 | I38: 3 | J38: 4 | L38: C | M38: D | N38: =LEFT(INDEX('2026_BannerMD_BMT_ALLO_UNREL'!$A$1:$E$30,MATCH(H38,'2026_BannerMD_BMT_ALLO_UNREL'!$A$1:$A$30),MATCH(I38,'2026_BannerMD_BMT_ALLO_UNREL'!$A$1:$D$1)),30) -> Rate Above Threshold | O38: 0.5 | P38: =O38 -> 0.5 | Q38: no adjustment
A39: ='2026_BannerMD_TBI'!$A$1 -> #VALUE! | B39: =IF(A39=A38,0,1) -> #VALUE! | C39: Banner Gateway | D39: {=RIGHT(INDIRECT(ADDRESS(6,2,,,$A39)),6)} -> #VALUE! | E39: {=RIGHT(INDIRECT(ADDRESS(4,2,,,$A39)),5)} -> #VALUE! | F39: 1.0335 | G39: =$G$2 -> 1.0325 | H39: 1 | I39: 3 | J39: 4 | L39: C | M39: D | N39: =LEFT(INDEX('2026_BannerMD_TBI'!$A$1:$E$30,MATCH(H39,'2026_BannerMD_TBI'!$A$1:$A$30),MATCH(I39,'2026_BannerMD_TBI'!$A$1:$D$1)),30) -> TOTAL BODY IRRADIATION (TBI) | O39: 7818 | P39: =ROUND(O39*$G$2,0) -> 8072
A40: ='2026_BUMCP_HEART'!$A$1 -> #VALUE! | B40: =IF(A40=A39,0,1) -> #VALUE! | C40: Banner U Phoenix | D40: {=RIGHT(INDIRECT(ADDRESS(6,2,,,$A40)),6)} -> #VALUE! | E40: {=RIGHT(INDIRECT(ADDRESS(4,2,,,$A40)),5)} -> #VALUE! | F40: 1.0335 | G40: =$G$2 -> 1.0325 | H40: 1 | I40: 3 | J40: 4 | L40: C | M40: D | N40: =LEFT(INDEX('2026_BUMCP_HEART'!$A$1:$E$30,MATCH(H40,'2026_BUMCP_HEART'!$A$1:$A$30),MATCH(I40,'2026_BUMCP_HEART'!$A$1:$D$1)),30) -> OUTPATIENT EVALUATION* - Initi | O40: 10119 | P40: =ROUND(O40*$G$2,0) -> 10448
...

Sheet 2026_BannerMD_BMT_AUT_ADULT
A1: {=MID(CELL("filename",A1),FIND("]",CELL("filename",A1))+1,255)} -> #VALUE! | C1: 3 | D1: 4
B3: BANNER HEALTH dba BANNER GATEWAY MEDICAL CENTER
B4: ADULT AUTOLOGOUS BONE MARROW TRANSPLANT CONTRACT (AUT)
B5: EFFECTIVE 10/1/2026 THROUGH 9/30/2027
B6: TRANSPLANT FACILITY ID# 262489
D8: ADULTS
C9: COMPONENTS | D9: INCLUSIVE RATE
A10: 1 | C10: OUTPATIENT EVALUATION* - Initial evaluation performed in an outpatient setting only* (not eligible for outlier consideration). Inpatient evaluations are billed outside the transplant contract. | D10: =VLOOKUP(A10,BannerMD_BMT_AUT_ADULT,9,FALSE) -> 6509
A11: 2 | C11: AUTOLOGOUS HARVEST | D11: =VLOOKUP(A11,BannerMD_BMT_AUT_ADULT,9,FALSE) -> 16110
A12: 3 | C12: PREP AND TRANSPLANT | D12: =VLOOKUP(A12,BannerMD_BMT_AUT_ADULT,9,FALSE) -> 120816
A13: 4 | C13: FOLLOW UP CARE - From day 1 post transplant through day 30 or a portion thereof | D13: =VLOOKUP(A13,BannerMD_BMT_AUT_ADULT,9,FALSE) -> 30607
A14: 5 | C14: FOLLOW UP CARE - From day 31 through day 60 or a portion thereof | D14: =VLOOKUP(A14,BannerMD_BMT_AUT_ADULT,9,FALSE) -> 11277
C15: TOTAL AUTOLOGOUS BONE MARROW | D15: =SUM(D10:D14) -> 185319
A17: 6 | C17: PER DIEM RATES for day 61+ of inpatient acute hospital care | D17: =VLOOKUP(A17,BannerMD_BMT_AUT_ADULT,9,FALSE) -> 2554
A18: 7 | C18: Days 11+/61+ paid at the per diem rate are not subject to the transplant outlier (prep and transplant through day 60) but are subject to outlier pursuant to the transplant specialty contract at an established threshold of $8,014.19 | D18: =VLOOKUP(A18,BannerMD_BMT_AUT_ADULT,9,FALSE) -> 8014.1928
C20: The inpatient transplant evaluation(s) is not a billing component under the transplant specialty contract. Services provided to an AHCCCS member enrolled as a fee for service member, by a transplant facility, for the purpose of determining whether the member is a candidate for a solid organ or a hematopoietic stem cell (bone marrow, peripheral blood or cord blood) transplant will be reimbursed based on the AHCCCS Fee-For Service rates, including the DRG based hospital payment system if the member is an inpatient.
C23: ***AHCCCS will pay for TOTAL BODY IRRADIATION (TBI) separately and in addition to the existing rates provided the use conforms to the AHCCCS AM/PM policy regarding TBI. Rates for TBI are posted on the corresponding TBI rate sheet.

Sheet 2026_BannerMD_BMT_ALLO_RELA
A1: {=MID(CELL("filename",A1),FIND("]",CELL("filename",A1))+1,255)} -> #VALUE! | C1: 3 | D1: 4
B3: BANNER HEALTH dba BANNER GATEWAY MEDICAL CENTER
B4: ADULT ALLOGENEIC RELATED BONE MARROW TRANSPLANT CONTRACT (ALO)
B5: EFFECTIVE 10/1/2026 THROUGH 9/30/2027
B6: TRANSPLANT FACILITY ID# 262489
D8: ADULTS
C9: COMPONENTS | D9: INCLUSIVE RATE
A10: 1 | C10: OUTPATIENT EVALUATION* - Initial evaluation performed in an outpatient setting only* (not eligible for outlier consideration). Inpatient evaluations are billed outside the transplant contract. | D10: =VLOOKUP(A10,BannerMD_BMT_ALLO_RELA,9,FALSE) -> 4632
A11: 2 | C11: RELATED DONOR SEARCH*(only 1 donor search will be reimbursed for Allogeneic Related and Haploid donors) | D11: =VLOOKUP(A11,BannerMD_BMT_ALLO_RELA,9,FALSE) -> 7156
A12: 3 | C12: RELATED DONOR HARVEST | D12: =VLOOKUP(A12,BannerMD_BMT_ALLO_RELA,9,FALSE) -> 11848
A13: 4 | C13: PREP AND TRANSPLANT | D13: =VLOOKUP(A13,BannerMD_BMT_ALLO_RELA,9,FALSE) -> 111225
A14: 5 | C14: FOLLOW UP CARE - From day 1 post transplant through day 30 or a portion thereof | D14: =VLOOKUP(A14,BannerMD_BMT_ALLO_RELA,9,FALSE) -> 48918
A15: 6 | C15: FOLLOW UP CARE - From day 31 through day 60 or a portion thereof | D15: =VLOOKUP(A15,BannerMD_BMT_ALLO_RELA,9,FALSE) -> 14486
C16: TOTAL ALLOGENEIC RELATED | D16: =SUM(D10:D15) -> 198265
A18: 7 | C18: PER DIEM RATES for day 61+ of inpatient acute hospital care | D18: =VLOOKUP(A18,BannerMD_BMT_ALLO_RELA,9,FALSE) -> 2554
A19: 8 | C19: Days 11+/61+ paid at the per diem rate are not subject to the transplant outlier (prep and transplant through day 60) but are subject to outlier pursuant to the transplant specialty contract at an established threshold of $8,014.19 | D19: =VLOOKUP(A19,BannerMD_BMT_ALLO_RELA,9,FALSE) -> 8014.1928
C21: *Multiple Donor Searches will not be reimbursed for Allogeneic Related and Haploid Bone Marrow Transplant. *The inpatient transplant evaluation(s) is not a billing component under the transplant specialty contract. Services provided to an AHCCCS member enrolled as a fee for service member, by a transplant facility, for the purpose of determining whether the member is a candidate for a solid organ or a hematopoietic stem cell (bone marrow, peripheral blood or cord blood) transplant will be reimbursed based on the AHCCCS Fee-For Service rates, including the DRG based hospital payment system if the member is an inpatient.
C23: ***AHCCCS will pay for TOTAL BODY IRRADIATION (TBI) separately and in addition to the existing rates provided the use conforms to the AHCCCS AM/PM policy regarding TBI. Rates for TBI are posted on the corresponding TBI rate sheet.

Sheet 2026_BannerMD_BMT_HAPLOID
A1: {=MID(CELL("filename",A1),FIND("]",CELL("filename",A1))+1,255)} -> #VALUE! | C1: 3 | D1: 4
B3: BANNER HEALTH dba BANNER GATEWAY MEDICAL CENTER
B4: ADULT HAPLOID HEMATOPOIETIC STEM CELL TRANSPLANT CONTRACT (HAP)
B5: EFFECTIVE 10/1/2026 THROUGH 9/30/2027
B6: TRANSPLANT FACILITY ID# 262489
D8: ADULTS
C9: COMPONENTS | D9: INCLUSIVE RATE
A10: 1 | C10: OUTPATIENT EVALUATION* - Initial evaluation performed in an outpatient setting only* (not eligible for outlier consideration). Inpatient evaluations are billed outside the transplant contract. | D10: =VLOOKUP(A10,BannerMD_BMT_HAPLOID,9,FALSE) -> 6852
A11: 2 | C11: DONOR SEARCH* (only 1 donor search will be reimbursed for Allogeneic Related and Haploid donors) | D11: =VLOOKUP(A11,BannerMD_BMT_HAPLOID,9,FALSE) -> 12094
A12: 3 | C12: DONOR HARVEST (includes stem cell harvest) - National Bone Marrow Donor Program | D12: =VLOOKUP(A12,BannerMD_BMT_HAPLOID,9,FALSE) -> 18212
A13: 4 | C13: PREP AND TRANSPLANT | D13: =VLOOKUP(A13,BannerMD_BMT_HAPLOID,9,FALSE) -> 65882
A14: 5 | C14: FOLLOW UP CARE - From day 1 post transplant through day 30 or a portion thereof | D14: =VLOOKUP(A14,BannerMD_BMT_HAPLOID,9,FALSE) -> 104065
A15: 6 | C15: FOLLOW UP CARE - From day 31 through day 60 or a portion thereof | D15: =VLOOKUP(A15,BannerMD_BMT_HAPLOID,9,FALSE) -> 34413
C16: TOTAL HAPLOID RELATED | D16: =SUM(D10:D15) -> 241518
A18: 7 | C18: PER DIEM RATES for day 61+ of inpatient acute hospital care | D18: =VLOOKUP(A18,BannerMD_BMT_HAPLOID,9,FALSE) -> 2554
A19: 8 | C19: Days 11+/61+ paid at the per diem rate are not subject to the transplant outlier (prep and transplant through day 60) but are subject to outlier pursuant to the transplant specialty contract at an established threshold of $8,014.19 | D19: =VLOOKUP(A19,BannerMD_BMT_HAPLOID,9,FALSE) -> 8014.1928
D21: Outlier Threshold
A22: 9 | C22: Outliers: Haploid Related cases and Severe Immune Syndrome (SCIDS) cases will be reimbursed at case rates unless billed charges for PREP AND TRANSPLANT AND FOLLOW UP CARE through day 60 exceed the Outlier Threshold. If total billed charges exceed the Outlier Threshold then the outlier reimbursement will be reimbursed at 50% of billed charges. | D22: =VLOOKUP(A22,BannerMD_BMT_HAPLOID,9,FALSE) -> 318869.59
A23: 10 | C23: Rate Above Threshold | D23: =VLOOKUP(A23,BannerMD_BMT_HAPLOID,9,FALSE) -> 0.5
C25: *Multiple Donor Searches will not be reimbursed for Allogeneic Related and Haploid Bone Marrow Transplant. *The inpatient transplant evaluation(s) is not a billing component under the transplant specialty contract. Services provided to an AHCCCS member enrolled as a fee for service member, by a transplant facility, for the purpose of determining whether the member is a candidate for a solid organ or a hematopoietic stem cell (bone marrow, peripheral blood or cord blood) transplant will be reimbursed based on the AHCCCS Fee-For Service rates, including the DRG based hospital payment system if the member is an inpatient.
C27: ***AHCCCS will pay for TOTAL BODY IRRADIATION (TBI) separately and in addition to the existing rates provided the use conforms to the AHCCCS AM/PM policy regarding TBI. Rates for TBI are posted on the corresponding TBI rate sheet.

Sheet 2026_BannerMD_BMT_ALLO_UNREL
A1: {=MID(CELL("filename",A1),FIND("]",CELL("filename",A1))+1,255)} -> #VALUE! | C1: 3 | D1: 4
B3: BANNER HEALTH dba BANNER GATEWAY MEDICAL CENTER
B4: ADULT ALLOGENEIC UNRELATED BONE MARROW TRANSPLANT CONTRACT (ALU)
B5: EFFECTIVE 10/1/2026 THROUGH 9/30/2027
B6: TRANSPLANT FACILITY ID# 262489
D8: ADULTS
C9: COMPONENTS | D9: INCLUSIVE RATE
A10: 1 | C10: OUTPATIENT EVALUATION* - Initial evaluation performed in an outpatient setting only* (not eligible for outlier consideration). Inpatient evaluations are billed outside the transplant contract. | D10: =VLOOKUP(A10,BannerMD_BMT_ALLO_UNREL,9,FALSE) -> 4767
A11: 2 | C11: UNRELATED DONOR SEARCH | D11: =VLOOKUP(A11,BannerMD_BMT_ALLO_UNREL,9,FALSE) -> 7365
A12: 3 | C12: DONOR HARVEST (includes stem cell harvest) - National Bone Marrow Donor Program | D12: =VLOOKUP(A12,BannerMD_BMT_ALLO_UNREL,9,FALSE) -> NBMD or Cord blood Invoice Cost
A13: 4 | C13: PREP AND TRANSPLANT | D13: =VLOOKUP(A13,BannerMD_BMT_ALLO_UNREL,9,FALSE) -> 114462
A14: 5 | C14: FOLLOW UP CARE - From day 1 post transplant through day 30 or a portion thereof | D14: =VLOOKUP(A14,BannerMD_BMT_ALLO_UNREL,9,FALSE) -> 63286
A15: 6 | C15: FOLLOW UP CARE - From day 31 through day 60 or a portion thereof | D15: =VLOOKUP(A15,BannerMD_BMT_ALLO_UNREL,9,FALSE) -> 38020
C16: TOTAL ALLOGENEIC UNRELATED BONE MARROW | D16: =SUM(D10:D15) -> 227900
A18: 7 | C18: PER DIEM RATES for day 61+ of inpatient acute hospital care | D18: =VLOOKUP(A18,BannerMD_BMT_ALLO_UNREL,9,FALSE) -> 2554
A19: 8 | C19: Days 11+/61+ paid at the per diem rate are not subject to the transplant outlier (prep and transplant through day 60) but are subject to outlier pursuant to the transplant specialty contract at an established threshold of $8,014.19 | D19: =VLOOKUP(A19,BannerMD_BMT_ALLO_UNREL,9,FALSE) -> 8014.1928
D21: Outlier Threshold
A22: 9 | C22: Outliers: Matched unrelated allogeneic and Severe Immune Syndrome (SCIDS) cases will be reimbursed at case rates unless billed charges exceed the Outlier Threshold. The case rate will cover the Outlier Threshold then charges greater than the Outlier Threshold will be reimbursed at 50% of billed charges. | D22: =VLOOKUP(A22,BannerMD_BMT_ALLO_UNREL,9,FALSE) -> 282076
A23: 10 | C23: Rate Above Threshold | D23: =VLOOKUP(A23,BannerMD_BMT_ALLO_UNREL,9,FALSE) -> 0.5
C25: *The inpatient transplant evaluation(s) is not a billing component under the transplant specialty contract. Services provided to an AHCCCS member enrolled as a fee for service member, by a transplant facility, for the purpose of determining whether the member is a candidate for a solid organ or a hematopoietic stem cell (bone marrow, peripheral blood or cord blood) transplant will be reimbursed based on the AHCCCS Fee-For Service rates, including the DRG based hospital payment system if the member is an inpatient.
C27: ***AHCCCS will pay for TOTAL BODY IRRADIATION (TBI) separately and in addition to the existing rates provided the use conforms to the AHCCCS AM/PM policy regarding TBI. Rates for TBI are posted on the corresponding TBI rate sheet.

Sheet 2026_BannerMD_TBI
A1: {=MID(CELL("filename",A1),FIND("]",CELL("filename",A1))+1,255)} -> #VALUE! | C1: 3 | D1: 4
B3: BANNER HEALTH dba BANNER GATEWAY MEDICAL CENTER
B4: TOTAL BODY IRRADIATION (TBI)
B5: EFFECTIVE 10/1/2026 THROUGH 9/30/2027
B6: TRANSPLANT FACILITY ID# 262489
D8: ADULTS & PEDIATRICS
C9: COMPONENTS | D9: INCLUSIVE RATE
A10: 1 | C10: TOTAL BODY IRRADIATION (TBI) entered as a separate case type | D10: =VLOOKUP(A10,BannerMD_TBI,9,FALSE) -> 8072
C11: TOTAL BODY IRRADIATION | D11: =SUM(D10) -> 8072

Sheet 2026_BUMCP_HEART
A1: {=MID(CELL("filename",A1),FIND("]",CELL("filename",A1))+1,255)} -> #VALUE! | C1: 3 | D1: 4
B3: BANNER UNIVERSITY MEDICAL CENTER PHOENIX
B4: HEART TRANSPLANT CONTRACT (HRT)
B5: EFFECTIVE 10/1/2026 THROUGH 9/30/2027
B6: TRANSPLANT FACILITY ID# 529985
D8: ADULTS
C9: COMPONENTS | D9: INCLUSIVE RATE
A10: 1 | C10: OUTPATIENT EVALUATION* - Initial evaluation performed in an outpatient setting only* (not eligible for outlier consideration). Inpatient evaluations are billed outside the transplant contract. | D10: =VLOOKUP(A10,BUMCP_HEART,9,FALSE) -> 10448
A11: 2 | C11: PREP AND TRANSPLANT | D11: =VLOOKUP(A11,BUMCP_HEART,9,FALSE) -> 130267
A12: 3 | C12: FOLLOW UP CARE - From day 1 post transplant through day 30 or a portion thereof | D12: =VLOOKUP(A12,BUMCP_HEART,9,FALSE) -> 98660
A13: 4 | C13: FOLLOW UP CARE - From day 31 through day 60 or a portion thereof | D13: =VLOOKUP(A13,BUMCP_HEART,9,FALSE) -> 41929
C14: TOTAL HEART | D14: =SUM(D10:D13) -> 281304
A16: 5 | C16: PER DIEM RATES for day 61+ of inpatient acute hospital care | D16: =VLOOKUP(A16,BUMCP_HEART,9,FALSE) -> 2554
A17: 6 | C17: Days 11+/61+ paid at the per diem rate are not subject to the transplant outlier (prep and transplant through day 60) but are subject to outlier pursuant to the transplant specialty contract at an established threshold of $8,014.19 | D17: =VLOOKUP(A17,BUMCP_HEART,9,FALSE) -> 8014.1928
D19: Outlier Threshold
A20: 7 | C20: **Heart cases will be reimbursed at case rate unless total billed charges for components PREP AND TRANSPLANT and FOLLOW UP CARE Day 1-60 exceed the Outlier Threshold. Then all charges over the Outlier Threshold will be reimbursed at 50% of billed charges. | D20: =VLOOKUP(A20,BUMCP_HEART,9,FALSE) -> 355662 | E20: Post care while patient is on the VAD will be paid at the AHCCCS plan negotiated or default contracted rates.
A21: 8 | C21: Rate Above Threshold | D21: =VLOOKUP(A21,BUMCP_HEART,9,FALSE) -> 0.5
C23: ***AHCCCS will pay for Ventricular Assistance Devices (VADs), Cardiac Assistance Devices (CAD's), and Total Artificial Heart (TAH) separately provided the device is inserted as a bridge to transplant and the use conforms to the AHCCCS AM/PM policy regarding VADs, CADs and TAH's. As long as this provision is met, AHCCCS will pay up to the actual amount the facility is billed by the manufacturer for the device plus ten percent (10%). AHCCCS will require the facility's invoice for the devIce prior to payment. CAD/VAD/TAH's inserted as destination therapy are covered outside the Transplant Contract.
C25: *The inpatient transplant evaluation(s) is not a billing component under the transplant specialty contract. Services provided to an AHCCCS member enrolled as a fee for service member, by a transplant facility, for the purpose of determining whether the member is a candidate for a solid organ or a hematopoietic stem cell (bone marrow, peripheral blood or cord blood) transplant will be reimbursed based on the AHCCCS Fee-For Service rates, including the DRG based hospital payment system if the member is an inpatient.

Sheet 2026_BUMCP_KIDNEY_CADAVERIC
A1: {=MID(CELL("filename",A1),FIND("]",CELL("filename",A1))+1,255)} -> #VALUE! | C1: 3 | D1: 4
B3: BANNER UNIVERSITY MEDICAL CENTER PHOENIX
A4: ` | B4: CADAVERIC DONOR KIDNEY TRANSPLANT CONTRACT (CKY)
B5: EFFECTIVE 10/1/2026 THROUGH 9/30/2027
B6: TRANSPLANT FACILITY ID# 529985
D8: ADULTS
C9: COMPONENTS | D9: INCLUSIVE RATE
A10: 1 | C10: OUTPATIENT EVALUATION* - Initial evaluation performed in an outpatient setting only* (not eligible for outlier consideration). Inpatient evaluations are billed outside the transplant contract. | D10: =VLOOKUP(A10,BUMCP_KIDNEY_CADAVERIC,9,FALSE) -> 5328
A11: 2 | C11: PREP & TRANSPLANT UP TO AND INCLUDING DAY 10 OF INPATIENT CONVALESCENT CARE. | D11: =VLOOKUP(A11,BUMCP_KIDNEY_CADAVERIC,9,FALSE) -> 126161
C12: TOTAL KIDNEY (CADAVERIC DONOR) | D12: =SUM(D10:D11) -> 131489
A14: 3 | C14: PER DIEM RATES for day 11+ of inpatient acute hospital care | D14: =VLOOKUP(A14,BUMCP_KIDNEY_CADAVERIC,9,FALSE) -> 2554
A15: 4 | C15: Days 11+/61+ paid at the per diem rate are not subject to the transplant outlier (prep and transplant through day 60) but are subject to outlier pursuant to the transplant specialty contract at an established threshold of $8,014.19 | D15: =VLOOKUP(A15,BUMCP_KIDNEY_CADAVERIC,9,FALSE) -> 8014.1928
C17: The inpatient transplant evaluation(s) is not a billing component under the transplant specialty contract. Services provided to an AHCCCS member enrolled as a fee for service member, by a transplant facility, for the purpose of determining whether the member is a candidate for a solid organ or a hematopoietic stem cell (bone marrow, peripheral blood or cord blood) transplant will be reimbursed based on the AHCCCS Fee-For Service rates, including the DRG based hospital payment system if the member is an inpatient.

Sheet 2026_BUMCP_KIDNEY_LIVING
A1: {=MID(CELL("filename",A1),FIND("]",CELL("filename",A1))+1,255)} -> #VALUE! | C1: 3 | D1: 4
B3: BANNER UNIVERSITY MEDICAL CENTER PHOENIX
B4: LIVING DONOR KIDNEY TRANSPLANT CONTRACT (KDY)
B5: EFFECTIVE 10/1/2026 THROUGH 9/30/2027
B6: TRANSPLANT FACILITY ID# 529985
D8: ADULTS
C9: COMPONENTS | D9: INCLUSIVE RATE
A10: 1 | C10: OUTPATIENT EVALUATION* - Initial evaluation performed in an outpatient setting only* (not eligible for outlier consideration). Inpatient evaluations are billed outside the transplant contract. | D10: =VLOOKUP(A10,BUMCP_KIDNEY_LIVING,9,FALSE) -> 5328
A11: 2 | C11: PREP & TRANSPLANT UP TO AND INCLUDING DAY 10 OF INPATIENT CONVALESCENT CARE | D11: =VLOOKUP(A11,BUMCP_KIDNEY_LIVING,9,FALSE) -> 126161
A12: 3 | C12: LIVING DONOR SURGERY AND INPATIENT RECOVERY UP TO AND INCLUDING DAY 3 OF INPATIENT CONVALESCENT CARE | D12: =VLOOKUP(A12,BUMCP_KIDNEY_LIVING,9,FALSE) -> 20008
C13: TOTAL KIDNEY (LIVING DONOR) | D13: =SUM(D10:D12) -> 151497
A15: 4 | C15: PER DIEM RATES for day 11+ of inpatient acute hospital care | D15: =VLOOKUP(A15,BUMCP_KIDNEY_LIVING,9,FALSE) -> 2554
A16: 5 | C16: Days 11+/61+ paid at the per diem rate are not subject to the transplant outlier (prep and transplant through day 60) but are subject to outlier pursuant to the transplant specialty contract at an established threshold of $8,014.19 | D16: =VLOOKUP(A16,BUMCP_KIDNEY_LIVING,9,FALSE) -> 8014.1928
C18: The inpatient transplant evaluation(s) is not a billing component under the transplant specialty contract. Services provided to an AHCCCS member enrolled as a fee for service member, by a transplant facility, for the purpose of determining whether the member is a candidate for a solid organ or a hematopoietic stem cell (bone marrow, peripheral blood or cord blood) transplant will be reimbursed based on the AHCCCS Fee-For Service rates, including the DRG based hospital payment system if the member is an inpatient.

Sheet 2026_BUMCP_PANCREA_AFTER_KDY
A1: {=MID(CELL("filename",A1),FIND("]",CELL("filename",A1))+1,255)} -> #VALUE! | C1: 3 | D1: 4
B3: BANNER UNIVERSITY MEDICAL CENTER PHOENIX
B4: PANCREAS AFTER KIDNEY TRANSPLANT CONTRACT (PAK)
B5: EFFECTIVE 10/1/2026 THROUGH 9/30/2027
B6: TRANSPLANT FACILITY ID# 529985
D8: ADULTS
C9: COMPONENTS | D9: INCLUSIVE RATE
A10: 1 | C10: OUTPATIENT EVALUATION* - Initial evaluation performed in an outpatient setting only* (not eligible for outlier consideration). Inpatient evaluations are billed outside the transplant contract. | D10: =VLOOKUP(A10,BUMCP_PANCREA_AFTER_KDY,9,FALSE) -> 3843
A11: 2 | C11: PREP AND TRANSPLANT | D11: =VLOOKUP(A11,BUMCP_PANCREA_AFTER_KDY,9,FALSE) -> 95668
A12: 3 | C12: FOLLOW UP CARE - From day 1 post transplant through day 30 or a portion thereof | D12: =VLOOKUP(A12,BUMCP_PANCREA_AFTER_KDY,9,FALSE) -> 42548
A13: 4 | C13: FOLLOW UP CARE - From day 31 through day 60 or a portion thereof | D13: =VLOOKUP(A13,BUMCP_PANCREA_AFTER_KDY,9,FALSE) -> 9262
C14: TOTAL PANCREAS AFTER KIDNEY | D14: =SUM(D10:D13) -> 151321
A16: 5 | C16: PER DIEM RATES for day 61+ of inpatient acute hospital care | D16: =VLOOKUP(A16,BUMCP_PANCREA_AFTER_KDY,9,FALSE) -> 2554
A17: 6 | C17: Days 11+/61+ paid at the per diem rate are not subject to the transplant outlier (prep and transplant through day 60) but are subject to outlier pursuant to the transplant specialty contract at an established threshold of $8,014.19 | D17: =VLOOKUP(A17,BUMCP_PANCREA_AFTER_KDY,9,FALSE) -> 8014.1928
C20: The inpatient transplant evaluation(s) is not a billing component under the transplant specialty contract. Services provided to an AHCCCS member enrolled as a fee for service member, by a transplant facility, for the purpose of determining whether the member is a candidate for a solid organ or a hematopoietic stem cell (bone marrow, peripheral blood or cord blood) transplant will be reimbursed based on the AHCCCS Fee-For Service rates, including the DRG based hospital payment system if the member is an inpatient.

Sheet 2026_BUMCP_SIM_KIDNEY_PANCR
A1: {=MID(CELL("filename",A1),FIND("]",CELL("filename",A1))+1,255)} -> #VALUE! | C1: 3 | D1: 4
B3: BANNER UNIVERSITY MEDICAL CENTER PHOENIX
B4: SIMULATANEOUS KIDNEY/PANCREAS TRANSPLANT CONTRACT (SPK)
B5: EFFECTIVE 10/1/2026 THROUGH 9/30/2027
B6: TRANSPLANT FACILITY ID# 529985
D8: ADULTS
C9: COMPONENTS | D9: INCLUSIVE RATE
A10: 1 | C10: OUTPATIENT EVALUATION* - Initial evaluation performed in an outpatient setting only* (not eligible for outlier consideration). Inpatient evaluations are billed outside the transplant contract. | D10: =VLOOKUP(A10,BUMCP_SIM_KIDNEY_PANCR,9,FALSE) -> 5518
A11: 2 | C11: PREP AND TRANSPLANT | D11: =VLOOKUP(A11,BUMCP_SIM_KIDNEY_PANCR,9,FALSE) -> 136293
A12: 3 | C12: FOLLOW UP CARE - From day 1 post transplant through day 30 or a portion thereof | D12: =VLOOKUP(A12,BUMCP_SIM_KIDNEY_PANCR,9,FALSE) -> 55217
A13: 4 | C13: FOLLOW UP CARE - From day 31 through day 60 or a portion thereof | D13: =VLOOKUP(A13,BUMCP_SIM_KIDNEY_PANCR,9,FALSE) -> 10396
C14: TOTAL KIDNEY/PANCREAS | D14: =SUM(D10:D13) -> 207424
A16: 5 | C16: PER DIEM RATES for day 61+ of inpatient acute hospital care | D16: =VLOOKUP(A16,BUMCP_SIM_KIDNEY_PANCR,9,FALSE) -> 2554
A17: 6 | C17: Days 11+/61+ paid at the per diem rate are not subject to the transplant outlier (prep and transplant through day 60) but are subject to outlier pursuant to the transplant specialty contract at an established threshold of $8,014.19 | D17: =VLOOKUP(A17,BUMCP_SIM_KIDNEY_PANCR,9,FALSE) -> 8014.1928
